BEGIN:VCALENDAR
VERSION:2.0
PRODID:Credit River, MN Calendar Creator
METHOD:PUBLISH
BEGIN:VEVENT
DTSTAMP:20260401T121703
DTSTART:20260511T180000
DTEND:20260511T235900
SUMMARY:Country Court Park Meeting
DESCRIPTION:
X-ALT-DESC;FMTTYPE=text/html:
LOCATION:Country Court Park\, 6180 Sue Ann Lane Prior Lake\, Minnesota 55372
CLASS:PUBLIC
END:VEVENT
END:VCALENDAR
